BEGIN:VCALENDAR
VERSION:2.0
PRODID:-//ChamberMaster//Event Calendar 2.0//EN
METHOD:PUBLISH
X-PUBLISHED-TTL:P3D
REFRESH-INTERVAL:P3D
CALSCALE:GREGORIAN
BEGIN:VEVENT
DTSTART:20250411T210000Z
DTEND:20250413T010000Z
X-MICROSOFT-CDO-ALLDAYEVENT:FALSE
SUMMARY:2025 Home Show
DESCRIPTION:To be notified when registration opens\, e-mail Builders@LakeRegionBuilders.com\n\n\n\nWe are excited to host our 37th annual Home Show on Friday & Saturday\, April 11 & 12\, 2025 at the Kent Freeman Arena in Detroit Lakes\, Minnesota. \n\nThere's no better place to see the latest products\, services\, and visit with the experts for all of your home building\, remodeling\, home repair and maintenance\, as well as your outdoor sports and recreation needs including boating\, docks and lifts\, camping\, ATVs and more! With our unique floor plan\, attendees are sure to see every booth.\n\nMake plans to attend and be a part of our Home Show! We hope to see you there!\n\n\n\nNew this Year: We are partnering with the Leighton Craft Beer Tour which will occupy arena 2 on Friday night!
X-ALT-DESC;FMTTYPE=text/html:<p class="Cambria"><span style="color:#B22222\;"><span style="font-size:14px\;"><strong>To be notified when registration opens\, e-mail Builders@LakeRegionBuilders.com</strong></span></span><br />\n<br />\nWe are excited to host our&nbsp\;37th&nbsp\;annual&nbsp\;<strong>Home Show</strong>&nbsp\;on Friday &amp\; Saturday\,&nbsp\;<strong>April 11 &amp\; 12\, 2025</strong>&nbsp\;at the Kent Freeman Arena in Detroit Lakes\, Minnesota.&nbsp\;<o:p></o:p></p>\n\n<p class="Cambria">There&#39\;s no better place to see the latest products\, services\, and visit with the experts for all of your home building\, remodeling\, home repair and maintenance\, as well as your outdoor sports and recreation needs including&nbsp\;boating\, docks and lifts\, camping\, ATVs and more!&nbsp\;With our unique floor plan\, attendees are sure to see every booth.<o:p></o:p></p>\n\n<p class="Cambria">Make plans to attend and be a part of our Home Show! We hope to see you there!<br />\n<br />\n<strong>New this Year: We are partnering with the Leighton Craft Beer Tour&nbsp\;which will occupy arena 2 on Friday night!</strong><o:p></o:p></p>\n
LOCATION:
UID:e.9467.1074
SEQUENCE:3
DTSTAMP:20260425T230629Z
URL:https://members.lakeregionbuilders.com/events/details/2025-home-show-1074
END:VEVENT

END:VCALENDAR
